BEGIN:VCALENDAR
VERSION:2.0
PRODID:-// - ECPv6.15.15//NONSGML v1.0//EN
CALSCALE:GREGORIAN
METHOD:PUBLISH
X-ORIGINAL-URL:https://xn--mittstrngns-r8ad.se
X-WR-CALDESC:Händelser för 
REFRESH-INTERVAL;VALUE=DURATION:PT1H
X-Robots-Tag:noindex
X-PUBLISHED-TTL:PT1H
BEGIN:VTIMEZONE
TZID:Europe/Stockholm
BEGIN:DAYLIGHT
TZOFFSETFROM:+0100
TZOFFSETTO:+0200
TZNAME:CEST
DTSTART:20250330T010000
END:DAYLIGHT
BEGIN:STANDARD
TZOFFSETFROM:+0200
TZOFFSETTO:+0100
TZNAME:CET
DTSTART:20251026T010000
END:STANDARD
BEGIN:DAYLIGHT
TZOFFSETFROM:+0100
TZOFFSETTO:+0200
TZNAME:CEST
DTSTART:20260329T010000
END:DAYLIGHT
BEGIN:STANDARD
TZOFFSETFROM:+0200
TZOFFSETTO:+0100
TZNAME:CET
DTSTART:20261025T010000
END:STANDARD
BEGIN:DAYLIGHT
TZOFFSETFROM:+0100
TZOFFSETTO:+0200
TZNAME:CEST
DTSTART:20270328T010000
END:DAYLIGHT
BEGIN:STANDARD
TZOFFSETFROM:+0200
TZOFFSETTO:+0100
TZNAME:CET
DTSTART:20271031T010000
END:STANDARD
END:VTIMEZONE
BEGIN:VEVENT
DTSTART;TZID=Europe/Stockholm:20260418T120000
DTEND;TZID=Europe/Stockholm:20260424T170000
DTSTAMP:20260423T110708
CREATED:20251228T174221Z
LAST-MODIFIED:20251228T180532Z
UID:10594-1776513600-1777050000@xn--mittstrngns-r8ad.se
SUMMARY:Vernissage
DESCRIPTION:Separatutställning med konstnären Monica Löfgren- Målningar\n  \nSträngnäs Konstgalleri\nTrädgådsgatan 24 \nÖppettider:\nVardagar 13-17\nHelger 12-16
URL:https://xn--mittstrngns-r8ad.se/kommande-evenemang/vernissage-7/
LOCATION:Strängnäs konstgalleri\, Trädgårdsgatan 24
END:VEVENT
BEGIN:VEVENT
DTSTART;TZID=Europe/Stockholm:20260423T183000
DTEND;TZID=Europe/Stockholm:20260423T193000
DTSTAMP:20260423T110708
CREATED:20251228T103702Z
LAST-MODIFIED:20251228T103819Z
UID:10535-1776969000-1776972600@xn--mittstrngns-r8ad.se
SUMMARY:Föredrag
DESCRIPTION:Allt har en smak av aska.\nEtt samtal om konflikter\, hopp och framtidstro med Cecilia Uddén\, utrikeskorrespondent vid Sveriges Radio.
URL:https://xn--mittstrngns-r8ad.se/kommande-evenemang/foredrag-allt-har-en-smak-av-aska/
LOCATION:Strängnäs domkyrka
ATTACH;FMTTYPE=image/jpeg:https://media.xn--mittstrngns-r8ad.se/2024/12/IMG_8826.jpg
END:VEVENT
BEGIN:VEVENT
DTSTART;TZID=Europe/Stockholm:20260425T100000
DTEND;TZID=Europe/Stockholm:20260425T150000
DTSTAMP:20260423T110708
CREATED:20231230T133257Z
LAST-MODIFIED:20260416T110258Z
UID:8619-1777111200-1777129200@xn--mittstrngns-r8ad.se
SUMMARY:Lokala Handelns Dag 2026
DESCRIPTION:Lokala Handelns Dag i Strängnäs 2026\n\nVälkommen till en dag där vi tillsammans firar det bästa av Strängnäs. Lördag den 25 april fylls Strängnäs av liv\, rörelse och härlig stämning när vi lyfter fram stadens utbud av butiker\, service\, restauranger\, caféer och andra lokala aktörer och föreningar. \n \nVad kan du förvänta dig av dagen?\nFörutom shopping och fika/lunch så ska årets butik och restaurang/café röstas fram. Besök mini marknad på Hospitalsgatan och titta på uppvisningar i Ugglans park. Träffa stadens maskotar\, käpphäst hinderbana\, bygg Strängnäs i LEGO och kolla in brandbil och ambulans på närmare håll. Detta och mycket mer. För att göra det enkelt och ta sig mellan stadens olika handelsplatser och ta del av Strängnäs breda utbud kommer det gå gratis bussar. \nGratis buss mellan Stadskärnan – Gula Rosornas Företagsby – Solberga handelsplats – Bernhardssons Möbler\nUnder dagen kan du enkelt ta dig mellan stans olika handelsplatser kostnadsfritt\, genom att hoppa på ”handla hemma” bussen.\nSe tidtabell och mer information här. \nRösta fram årets Butik & Restaurang/Café\nDet är dags att hylla våra fantastiska företagare och kora årets butik samt årets restaurang/café bland Mitt Strängnäs medlemmar. \nDen 25 april kl.10-15  hittar du röstnings tältet på Gyllenhjelmstorget\, kom förbi och lägg din röst på dina favoriter.\nKan du inte vara på plats just då? Ingen fara! Röstningen fortsätter digitalt fram till den 4 maj 2026. \n \nProgram \nkl.10-15 Butikerna öppet (på gång i butiker\, restauranger & caféer)\nkl.10-15 Mini Marknad på Hospitalsgatan (se utbudet här)\nkl.10-15 Företag ställer ut på Gyllenhjelmstorget (se utställare här)\nkl.10-15 Rösta fram årets Butik och Restaurang/Café på Gyllenhjelmstorget\nkl.10-15 Tipspromenad hos Bernhardssons möbler\nkl.10-15 Loppis\, hantverk och grill lunch hos Gula rosornas företagsby\nkl.11-13 Uppvisningar på scenen i Ugglans park (se tider och uppvisningar här)\nkl.11-14 Käpphäst hinderbana med Strängnäs ryttarförening på Gyllenhjelmstorget\nkl.11-14 Brandbil och Ambulans på Gyllenhjelmstorget\nkl.11-15 Bygg Strängnäs i LEGO i Galleria Präntaren (läs mer)\nkl.12 & 13 Meet and greet med maskotarna Pränton\, Tigern Teo och Jåkern på Gyllenhjelmstorget \n \nVad är Den Lokala Handelns Dag?\nDen Lokala Handelns Dag är ett initiativ från FILLit och uppmärksammas på allt fler platser runt om i landet. Syftet är att lyfta\, stärka och uppmärksamma den lokala handeln och dess betydelse för levande städer och samhällen.\n\nVill du vara med?\nVill du medverka med en aktivitet\, uppvisning\, pop-up eller utställning under dagen? Maila info@mittstrangnas.se.
URL:https://xn--mittstrngns-r8ad.se/kommande-evenemang/lokala-handelns-dag/
LOCATION:Strängnäs
CATEGORIES:Händer i Strängnäs,Kommande evenemang
ATTACH;FMTTYPE=image/jpeg:https://media.xn--mittstrngns-r8ad.se/2023/12/Webbformat.jpg
END:VEVENT
BEGIN:VEVENT
DTSTART;TZID=Europe/Stockholm:20260425T110000
DTEND;TZID=Europe/Stockholm:20260425T120000
DTSTAMP:20260423T110708
CREATED:20251228T104059Z
LAST-MODIFIED:20251228T104327Z
UID:10538-1777114800-1777118400@xn--mittstrngns-r8ad.se
SUMMARY:Lördagsorgel med Anders Börjesson
DESCRIPTION:
URL:https://xn--mittstrngns-r8ad.se/kommande-evenemang/lordagsorgel-med-anders-borjesson/
LOCATION:Strängnäs domkyrka
ATTACH;FMTTYPE=image/jpeg:https://media.xn--mittstrngns-r8ad.se/2018/02/IMG_8821.jpg
END:VEVENT
BEGIN:VEVENT
DTSTART;TZID=Europe/Stockholm:20260502T160000
DTEND;TZID=Europe/Stockholm:20260502T170000
DTSTAMP:20260423T110708
CREATED:20251228T104550Z
LAST-MODIFIED:20251228T104550Z
UID:10540-1777737600-1777741200@xn--mittstrngns-r8ad.se
SUMMARY:Konsert
DESCRIPTION:Förklädd gud – Lars-Erik Larsson.\nDomkyrkokören m. fl
URL:https://xn--mittstrngns-r8ad.se/kommande-evenemang/konsert-6/
LOCATION:Strängnäs domkyrka
ATTACH;FMTTYPE=image/jpeg:https://media.xn--mittstrngns-r8ad.se/2024/12/IMG_8826.jpg
END:VEVENT
BEGIN:VEVENT
DTSTART;TZID=Europe/Stockholm:20260509T110000
DTEND;TZID=Europe/Stockholm:20260509T120000
DTSTAMP:20260423T110708
CREATED:20251228T104959Z
LAST-MODIFIED:20251228T104959Z
UID:10543-1778324400-1778328000@xn--mittstrngns-r8ad.se
SUMMARY:Lördagsorgel med Hanna Lindahl
DESCRIPTION:
URL:https://xn--mittstrngns-r8ad.se/kommande-evenemang/lordagsorgel-med-hanna-lindahl/
LOCATION:Strängnäs domkyrka
ATTACH;FMTTYPE=image/jpeg:https://media.xn--mittstrngns-r8ad.se/2024/12/IMG_8826.jpg
END:VEVENT
BEGIN:VEVENT
DTSTART;TZID=Europe/Stockholm:20260509T120000
DTEND;TZID=Europe/Stockholm:20260515T170000
DTSTAMP:20260423T110708
CREATED:20251228T175448Z
LAST-MODIFIED:20251228T180621Z
UID:10596-1778328000-1778864400@xn--mittstrngns-r8ad.se
SUMMARY:Vernissage
DESCRIPTION:Konstnärerna Märith Sovin\, Ann-Charlotte Ahlin och Eva Bergfelth Målningar i Akvarell.\n  \n  \nSträngnäs Konstgalleri\nTrädgådsgatan 24 \nÖppettider:\nVardagar 13-17\nHelger 12-16
URL:https://xn--mittstrngns-r8ad.se/kommande-evenemang/vernissage-8/
LOCATION:Strängnäs konstgalleri\, Trädgårdsgatan 24
END:VEVENT
BEGIN:VEVENT
DTSTART;TZID=Europe/Stockholm:20260512T190000
DTEND;TZID=Europe/Stockholm:20260512T200000
DTSTAMP:20260423T110708
CREATED:20260117T081649Z
LAST-MODIFIED:20260117T081649Z
UID:10823-1778612400-1778616000@xn--mittstrngns-r8ad.se
SUMMARY:Kulturskolans vårkonsert
DESCRIPTION:Gratisbiljetter i evenemangsguiden
URL:https://xn--mittstrngns-r8ad.se/kommande-evenemang/kulturskolans-varkonsert-2/
LOCATION:Paulinska salen
END:VEVENT
BEGIN:VEVENT
DTSTART;TZID=Europe/Stockholm:20260523T000000
DTEND;TZID=Europe/Stockholm:20260523T000000
DTSTAMP:20260423T110708
CREATED:20251231T145155Z
LAST-MODIFIED:20260117T073245Z
UID:10715-1779494400-1779494400@xn--mittstrngns-r8ad.se
SUMMARY:Legoevent
DESCRIPTION:
URL:https://xn--mittstrngns-r8ad.se/kommande-evenemang/legoevent-2/
LOCATION:Galleria Präntaren
END:VEVENT
BEGIN:VEVENT
DTSTART;TZID=Europe/Stockholm:20260523T100000
DTEND;TZID=Europe/Stockholm:20260523T140000
DTSTAMP:20260423T110708
CREATED:20241114T143028Z
LAST-MODIFIED:20260406T071213Z
UID:9474-1779530400-1779544800@xn--mittstrngns-r8ad.se
SUMMARY:Loppis
DESCRIPTION:Ingen föranmälan för säljare. \nKom\, ta med bord och betala på plats. \nLions kommer också att presentera sitt kulturpris från scenen vid kl. 11.00.! \nVälkommen!
URL:https://xn--mittstrngns-r8ad.se/kommande-evenemang/loppis-9/
LOCATION:Ugglans Park
ATTACH;FMTTYPE=image/jpeg:https://media.xn--mittstrngns-r8ad.se/2023/12/IMG_8897.jpg
END:VEVENT
BEGIN:VEVENT
DTSTART;TZID=Europe/Stockholm:20260523T100000
DTEND;TZID=Europe/Stockholm:20260523T150000
DTSTAMP:20260423T110708
CREATED:20241110T192142Z
LAST-MODIFIED:20251231T142920Z
UID:9449-1779530400-1779548400@xn--mittstrngns-r8ad.se
SUMMARY:Vårmarknad
DESCRIPTION:Välkommen till Strängnäs Vårmarknad!\nKom och njut av lokalproducerade mat\, hantverk och marknadsgodis i ett vårfint Strängnäs. Här erbjuder marknadsknallar ett spännande utbud\, stadens uteserveringar har öppnat för säsongen.\nSamtidigt är det vårloppis i parken. Här kan du både köpa\, sälja och fynda! Välkommen till Strängnäs stadskärna för att uppleva goda dofter\, spännande smaker och härlig vårkänsla!
URL:https://xn--mittstrngns-r8ad.se/kommande-evenemang/varmarknad-5/
LOCATION:Strängnäs stadskärna
ATTACH;FMTTYPE=image/jpeg:https://media.xn--mittstrngns-r8ad.se/2020/01/Vårmarknad.jpeg
END:VEVENT
BEGIN:VEVENT
DTSTART;TZID=Europe/Stockholm:20260523T110000
DTEND;TZID=Europe/Stockholm:20260523T120000
DTSTAMP:20260423T110708
CREATED:20251228T105205Z
LAST-MODIFIED:20251228T105205Z
UID:10545-1779534000-1779537600@xn--mittstrngns-r8ad.se
SUMMARY:Lördagsorgel med Jonas Lind\,
DESCRIPTION:Bröllopsmusik
URL:https://xn--mittstrngns-r8ad.se/kommande-evenemang/lordagsorgel-med-jonas-lind-2/
LOCATION:Strängnäs domkyrka
ATTACH;FMTTYPE=image/jpeg:https://media.xn--mittstrngns-r8ad.se/2024/12/IMG_8826.jpg
END:VEVENT
BEGIN:VEVENT
DTSTART;TZID=Europe/Stockholm:20260523T110000
DTEND;TZID=Europe/Stockholm:20260523T140000
DTSTAMP:20260423T110708
CREATED:20260117T082120Z
LAST-MODIFIED:20260117T082120Z
UID:10826-1779534000-1779544800@xn--mittstrngns-r8ad.se
SUMMARY:Blåsmusikens dag
DESCRIPTION:Fri entré
URL:https://xn--mittstrngns-r8ad.se/kommande-evenemang/blasmusikens-dag-2/
LOCATION:Ugglans Park
END:VEVENT
BEGIN:VEVENT
DTSTART;TZID=Europe/Stockholm:20260523T113000
DTEND;TZID=Europe/Stockholm:20260523T153000
DTSTAMP:20260423T110708
CREATED:20251228T105718Z
LAST-MODIFIED:20251228T105718Z
UID:10547-1779535800-1779550200@xn--mittstrngns-r8ad.se
SUMMARY:Drop in-vigslar i domkyrkan
DESCRIPTION:
URL:https://xn--mittstrngns-r8ad.se/kommande-evenemang/drop-in-vigslar-i-domkyrkan-2/
LOCATION:Strängnäs domkyrka
ATTACH;FMTTYPE=image/jpeg:https://media.xn--mittstrngns-r8ad.se/2025/12/IMG_0287-scaled.jpeg
END:VEVENT
BEGIN:VEVENT
DTSTART;TZID=Europe/Stockholm:20260523T120000
DTEND;TZID=Europe/Stockholm:20260523T140000
DTSTAMP:20260423T110708
CREATED:20251231T100511Z
LAST-MODIFIED:20251231T100511Z
UID:10692-1779537600-1779544800@xn--mittstrngns-r8ad.se
SUMMARY:Vernissage: Det kunde varit du
DESCRIPTION:Omtumlad föds du in i världen till vilken plats som helst – det är första raden ur en text till en av ett fyrtiotal fotografier som tillsammans med korta texter utgör Sten Lundbergs utställning ”Det kunde varit du”. Utställningens första bild visar ett nyfött barn i en vagga i Irak\, sista bilden visar en äldre man i en säng i Mariefred. På något sätt hänger det ihop. \nSten Lundberg är född och uppväxt i Mariefred där han också bor. Han har ett flertal böcker och utställningar bakom sig. \nUtställningen pågår 23 maj – 15 augusti.
URL:https://xn--mittstrngns-r8ad.se/kommande-evenemang/vernissage-det-kunde-varit-du/
LOCATION:Kulturhuset Multeum
ATTACH;FMTTYPE=image/webp:https://media.xn--mittstrngns-r8ad.se/2025/12/w-1174h-761-2cfe51-Limg801_jpg.webp
END:VEVENT
BEGIN:VEVENT
DTSTART;TZID=Europe/Stockholm:20260523T120000
DTEND;TZID=Europe/Stockholm:20260529T170000
DTSTAMP:20260423T110708
CREATED:20251228T175901Z
LAST-MODIFIED:20251228T180650Z
UID:10599-1779537600-1780074000@xn--mittstrngns-r8ad.se
SUMMARY:Vernissage
DESCRIPTION:Sköna maj en Samlingsutställning\nSköna maj – Samlingsutställning i bildkonst och Våren är här – och med den kommer färg\, form och skaparglädje! \nVi välkomnar dig till vår samlingsutställning ”Sköna maj”. \n  \nSträngnäs Konstgalleri\nTrädgådsgatan 24 \nÖppettider:\nVardagar 13-17\nHelger 12-16
URL:https://xn--mittstrngns-r8ad.se/kommande-evenemang/vernissage-9/
LOCATION:Strängnäs konstgalleri\, Trädgårdsgatan 24
END:VEVENT
BEGIN:VEVENT
DTSTART;TZID=Europe/Stockholm:20260530T110000
DTEND;TZID=Europe/Stockholm:20260530T120000
DTSTAMP:20260423T110708
CREATED:20251228T110021Z
LAST-MODIFIED:20251228T110021Z
UID:10550-1780138800-1780142400@xn--mittstrngns-r8ad.se
SUMMARY:Lördagsorgel med Kevin Lembke
DESCRIPTION:
URL:https://xn--mittstrngns-r8ad.se/kommande-evenemang/lordagsorgel-med-kevin-lembke/
LOCATION:Strängnäs domkyrka
ATTACH;FMTTYPE=image/jpeg:https://media.xn--mittstrngns-r8ad.se/2023/01/IMG_3881-kopia.jpeg
END:VEVENT
BEGIN:VEVENT
DTSTART;TZID=Europe/Stockholm:20260530T120000
DTEND;TZID=Europe/Stockholm:20260606T160000
DTSTAMP:20260423T110708
CREATED:20251228T180358Z
LAST-MODIFIED:20251228T180358Z
UID:10601-1780142400-1780761600@xn--mittstrngns-r8ad.se
SUMMARY:Vernissage
DESCRIPTION:Marit Wallenberg och Maria Arnesdotter\n  \nMarit Wallenbert & Maria Arnesdotter –Två konstnärliga uttryck möts när Marit Wallenbert och Maria Arnesdotter ställer ut tillsammans på Strängnäs Konstgalleri. \n  \nSträngnäs Konstgalleri\nTrädgådsgatan 24 \nÖppettider:\nVardagar 13-17\nHelger 12-16
URL:https://xn--mittstrngns-r8ad.se/kommande-evenemang/vernissage-10/
LOCATION:Strängnäs konstgalleri\, Trädgårdsgatan 24
END:VEVENT
BEGIN:VEVENT
DTSTART;TZID=Europe/Stockholm:20260603T000000
DTEND;TZID=Europe/Stockholm:20260603T000000
DTSTAMP:20260423T110708
CREATED:20260107T175917Z
LAST-MODIFIED:20260117T073442Z
UID:10749-1780444800-1780444800@xn--mittstrngns-r8ad.se
SUMMARY:Jubileumsfirande för bildningsstaden Strängnäs och Thomasgymnasiet 400 år.
DESCRIPTION:En festdag med livemusik och tal där Thomasgymnasiets jubileum förenas med firandet av Strängnäs som stad för bildning\, idéutbyte och samhällsformande kunskap. \nSe länk: Thomasgymnasiet 400 år – Strängnäs kommun
URL:https://xn--mittstrngns-r8ad.se/kommande-evenemang/thomasgymnasiet-firar-400-ar/
LOCATION:Strängnäs domkyrka
ATTACH;FMTTYPE=image/jpeg:https://media.xn--mittstrngns-r8ad.se/2026/01/test_thg400_2-kopia.jpg
END:VEVENT
BEGIN:VEVENT
DTSTART;TZID=Europe/Stockholm:20260605T000000
DTEND;TZID=Europe/Stockholm:20260606T000000
DTSTAMP:20260423T110708
CREATED:20251228T111251Z
LAST-MODIFIED:20260117T073620Z
UID:10558-1780617600-1780704000@xn--mittstrngns-r8ad.se
SUMMARY:Sommarfest i Strängnäs med nationaldagsfirande.
DESCRIPTION:Se länk: Sommarfest i Strängnäs – Strängnäs kommun.
URL:https://xn--mittstrngns-r8ad.se/kommande-evenemang/nationaldagsfirande-och-sommarfest/
LOCATION:Strängnäs Stad
ATTACH;FMTTYPE=image/jpeg:https://media.xn--mittstrngns-r8ad.se/2018/12/Nationaldagen-6-juni-kopia.jpeg
END:VEVENT
BEGIN:VEVENT
DTSTART;TZID=Europe/Stockholm:20260605T000000
DTEND;TZID=Europe/Stockholm:20260606T000000
DTSTAMP:20260423T110708
CREATED:20251228T180920Z
LAST-MODIFIED:20251228T180949Z
UID:10606-1780617600-1780704000@xn--mittstrngns-r8ad.se
SUMMARY:Strängnäs Konstrunda
DESCRIPTION:Besök konstnärerna i sina hem\, ateljéer och se hur konstverken skapas. Rundan startar på Trädgårdsgatan 24.
URL:https://xn--mittstrngns-r8ad.se/kommande-evenemang/strangnas-konstrunda-2/
END:VEVENT
BEGIN:VEVENT
DTSTART;TZID=Europe/Stockholm:20260606T000000
DTEND;TZID=Europe/Stockholm:20260606T000000
DTSTAMP:20260423T110708
CREATED:20251228T111451Z
LAST-MODIFIED:20251228T111451Z
UID:10562-1780704000-1780704000@xn--mittstrngns-r8ad.se
SUMMARY:Nationaldagsfirande och sommarfest
DESCRIPTION:Läs mer om firandet och se program på www.strangnas.se
URL:https://xn--mittstrngns-r8ad.se/kommande-evenemang/nationaldagsfirande-och-sommarfest-2/
LOCATION:Strängnäs Stad
ATTACH;FMTTYPE=image/jpeg:https://media.xn--mittstrngns-r8ad.se/2018/12/Nationaldagen-6-juni-kopia.jpeg
END:VEVENT
BEGIN:VEVENT
DTSTART;TZID=Europe/Stockholm:20260606T090000
DTEND;TZID=Europe/Stockholm:20260606T093000
DTSTAMP:20260423T110708
CREATED:20251228T110746Z
LAST-MODIFIED:20251228T110746Z
UID:10553-1780736400-1780738200@xn--mittstrngns-r8ad.se
SUMMARY:Konsert
DESCRIPTION:Tornblåsare spelar från domkyrkans torn.
URL:https://xn--mittstrngns-r8ad.se/kommande-evenemang/konsert-7/
LOCATION:Från domkyrkotornet
ATTACH;FMTTYPE=image/jpeg:https://media.xn--mittstrngns-r8ad.se/2025/12/IMG_0287-scaled.jpeg
END:VEVENT
BEGIN:VEVENT
DTSTART;TZID=Europe/Stockholm:20260606T100000
DTEND;TZID=Europe/Stockholm:20260606T110000
DTSTAMP:20260423T110708
CREATED:20251228T110936Z
LAST-MODIFIED:20251228T110936Z
UID:10556-1780740000-1780743600@xn--mittstrngns-r8ad.se
SUMMARY:Festgudstjänst
DESCRIPTION:
URL:https://xn--mittstrngns-r8ad.se/kommande-evenemang/festgudstjanst-2/
LOCATION:Strängnäs domkyrka
ATTACH;FMTTYPE=image/jpeg:https://media.xn--mittstrngns-r8ad.se/2025/12/381E94EC-2E72-43F1-B8EA-FB2EE2216A75-scaled.jpeg
END:VEVENT
BEGIN:VEVENT
DTSTART;TZID=Europe/Stockholm:20260606T100000
DTEND;TZID=Europe/Stockholm:20260606T150000
DTSTAMP:20260423T110708
CREATED:20251228T111845Z
LAST-MODIFIED:20260117T073724Z
UID:10565-1780740000-1780758000@xn--mittstrngns-r8ad.se
SUMMARY:Hantverksmarknad
DESCRIPTION:Besök den årliga Hantverksmarknaden i Strängnäs!\nHär kan du hitta allt som rör genuint hantverk från keramik till mat. \nVara med i folkdräktsparad\, träffa dom gulliga alpackorna\, rida på ponny m.m. \nVi håller till på Västervikstorget vid marinan\, nära till restauranger och caféer och allt trevligt som händer i stan. \nVälkomna ! \nMbc Event – Madeleine & Hannele
URL:https://xn--mittstrngns-r8ad.se/kommande-evenemang/hantverksmassa-2/
LOCATION:Västervikstorget
ATTACH;FMTTYPE=image/jpeg:https://media.xn--mittstrngns-r8ad.se/2025/12/Hantverksmarknad-2026-scaled.jpeg
END:VEVENT
BEGIN:VEVENT
DTSTART;TZID=Europe/Stockholm:20260606T140000
DTEND;TZID=Europe/Stockholm:20260606T150000
DTSTAMP:20260423T110708
CREATED:20250312T094657Z
LAST-MODIFIED:20260228T153659Z
UID:10021-1780754400-1780758000@xn--mittstrngns-r8ad.se
SUMMARY:Historisk stadsguidning
DESCRIPTION:Mitt Strängnäs erbjuder guidade turer i Strängnäs. Vandra runt i Strängnäs gamla kvarter och lyssna till fakta\, spännande historier och skrönor från förr\, om bland annat domkyrkan\, klostret och intressanta personer. Guideföreningen i Strängnäs/Mariefred berättar. \nStart: Korsningen Gyllenhjelmsgatan/Järnvägsgatan/Hospitalsgatan. \nBiljettpris 120 kr/person\, barn under 12 år går gratis. \nBILJETTER: www.tickster.com
URL:https://xn--mittstrngns-r8ad.se/kommande-evenemang/historisk-stadsguidning-15/
LOCATION:Start korsningen Gyllenhjelmsgatan/Hospitalsgatan
ATTACH;FMTTYPE=image/jpeg:https://media.xn--mittstrngns-r8ad.se/2024/05/Strangnas-Webben.jpg
END:VEVENT
BEGIN:VEVENT
DTSTART;TZID=Europe/Stockholm:20260606T160000
DTEND;TZID=Europe/Stockholm:20260606T170000
DTSTAMP:20260423T110708
CREATED:20251228T112051Z
LAST-MODIFIED:20251228T112051Z
UID:10568-1780761600-1780765200@xn--mittstrngns-r8ad.se
SUMMARY:Nationaldagskonsert
DESCRIPTION:Oratoriekören
URL:https://xn--mittstrngns-r8ad.se/kommande-evenemang/nationaldagskonsert/
LOCATION:Strängnäs domkyrka
ATTACH;FMTTYPE=image/jpeg:https://media.xn--mittstrngns-r8ad.se/2025/12/381E94EC-2E72-43F1-B8EA-FB2EE2216A75-scaled.jpeg
END:VEVENT
BEGIN:VEVENT
DTSTART;TZID=Europe/Stockholm:20260613T100000
DTEND;TZID=Europe/Stockholm:20260613T140000
DTSTAMP:20260423T110708
CREATED:20241114T143232Z
LAST-MODIFIED:20251231T102008Z
UID:9476-1781344800-1781359200@xn--mittstrngns-r8ad.se
SUMMARY:Loppis
DESCRIPTION:Ingen föranmälan för säljare. \nKom\, ta med bord och betala på plats. \nVälkommen!
URL:https://xn--mittstrngns-r8ad.se/kommande-evenemang/loppis-10/
LOCATION:Ugglans Park
ATTACH;FMTTYPE=image/jpeg:https://media.xn--mittstrngns-r8ad.se/2023/12/IMG_8897.jpg
END:VEVENT
BEGIN:VEVENT
DTSTART;TZID=Europe/Stockholm:20260613T120000
DTEND;TZID=Europe/Stockholm:20260619T170000
DTSTAMP:20260423T110708
CREATED:20251228T181137Z
LAST-MODIFIED:20251228T181216Z
UID:10608-1781352000-1781888400@xn--mittstrngns-r8ad.se
SUMMARY:Vernissage
DESCRIPTION:Sommarsalong en samlingsutställning I måleri och skulptur.\n  \nSträngnäs Konstgalleri\nTrädgådsgatan 24 \nÖppettider:\nVardagar 13-17\nHelger 12-16
URL:https://xn--mittstrngns-r8ad.se/kommande-evenemang/vernissage-11/
LOCATION:Strängnäs konstgalleri\, Trädgårdsgatan 24
END:VEVENT
BEGIN:VEVENT
DTSTART;TZID=Europe/Stockholm:20260619T123000
DTEND;TZID=Europe/Stockholm:20260619T140000
DTSTAMP:20260423T110708
CREATED:20241110T185340Z
LAST-MODIFIED:20251231T154738Z
UID:9435-1781872200-1781877600@xn--mittstrngns-r8ad.se
SUMMARY:Midsommarfirande
DESCRIPTION:Var med och klä midsommarstången och dansa midsommardanser.
URL:https://xn--mittstrngns-r8ad.se/kommande-evenemang/midsommarfirande-3/
LOCATION:Visholmen
ATTACH;FMTTYPE=image/jpeg:https://media.xn--mittstrngns-r8ad.se/2015/06/midsommar.jpg
END:VEVENT
END:VCALENDAR